BEGIN:VCALENDAR
VERSION:2.0
PRODID:-//Cumberland Gap, Tennessee - ECPv6.15.20//NONSGML v1.0//EN
CALSCALE:GREGORIAN
METHOD:PUBLISH
X-WR-CALNAME:Cumberland Gap, Tennessee
X-ORIGINAL-URL:https://www.townofcumberlandgap.com
X-WR-CALDESC:Events for Cumberland Gap, Tennessee
REFRESH-INTERVAL;VALUE=DURATION:PT1H
X-Robots-Tag:noindex
X-PUBLISHED-TTL:PT1H
BEGIN:VTIMEZONE
TZID:America/New_York
BEGIN:DAYLIGHT
TZOFFSETFROM:-0500
TZOFFSETTO:-0400
TZNAME:EDT
DTSTART:20250309T070000
END:DAYLIGHT
BEGIN:STANDARD
TZOFFSETFROM:-0400
TZOFFSETTO:-0500
TZNAME:EST
DTSTART:20251102T060000
END:STANDARD
BEGIN:DAYLIGHT
TZOFFSETFROM:-0500
TZOFFSETTO:-0400
TZNAME:EDT
DTSTART:20260308T070000
END:DAYLIGHT
BEGIN:STANDARD
TZOFFSETFROM:-0400
TZOFFSETTO:-0500
TZNAME:EST
DTSTART:20261101T060000
END:STANDARD
BEGIN:DAYLIGHT
TZOFFSETFROM:-0500
TZOFFSETTO:-0400
TZNAME:EDT
DTSTART:20270314T070000
END:DAYLIGHT
BEGIN:STANDARD
TZOFFSETFROM:-0400
TZOFFSETTO:-0500
TZNAME:EST
DTSTART:20271107T060000
END:STANDARD
END:VTIMEZONE
BEGIN:VEVENT
DTSTART;TZID=America/New_York:20260423T070000
DTEND;TZID=America/New_York:20260423T200000
DTSTAMP:20260423T013341
CREATED:20260417T151509Z
LAST-MODIFIED:20260417T151656Z
UID:10001502-1776927600-1776974400@www.townofcumberlandgap.com
SUMMARY:Historic Zoning Commission Meeting-Special Called
DESCRIPTION:Purpose of Meeting: The Cumberland Gap Historic Zoning Commission will hold a special called meeting to review and approve a Certificate of Appropriateness (COA) submitted for 527 Colwyn Ave (Angelo’s in the Gap) \nMeeting Details: \n\nDate: Thursday April 23\, 2026\nTime: 7:00 p.m.\nLocation: Cumberland Gap Town Hall
URL:https://www.townofcumberlandgap.com/event/historic-zoning-commission-meeting-special-called/
LOCATION:Cumberland Gap Town Hall\, 330 Colwyn St.\, Cumberland Gap\, 37724\, United States
CATEGORIES:Meetings
ATTACH;FMTTYPE=image/jpeg:https://www.townofcumberlandgap.com/wp-content/uploads/2024/07/TOCG_2024Events_HistoricZoningCommission.jpg
END:VEVENT
END:VCALENDAR